BEGIN:VCALENDAR
VERSION:2.0
PRODID:-//Oak Valley Golf Club - ECPv6.15.18//NONSGML v1.0//EN
CALSCALE:GREGORIAN
METHOD:PUBLISH
X-WR-CALNAME:Oak Valley Golf Club
X-ORIGINAL-URL:https://www.oakvalleygolf.com
X-WR-CALDESC:Events for Oak Valley Golf Club
REFRESH-INTERVAL;VALUE=DURATION:PT1H
X-Robots-Tag:noindex
X-PUBLISHED-TTL:PT1H
BEGIN:VTIMEZONE
TZID:UTC
BEGIN:STANDARD
TZOFFSETFROM:+0000
TZOFFSETTO:+0000
TZNAME:UTC
DTSTART:20240101T000000
END:STANDARD
END:VTIMEZONE
BEGIN:VEVENT
DTSTART;TZID=UTC:20251219T170000
DTEND;TZID=UTC:20251219T210000
DTSTAMP:20260419T163143
CREATED:20251216T201733Z
LAST-MODIFIED:20251216T201733Z
UID:10000541-1766163600-1766178000@www.oakvalleygolf.com
SUMMARY:Range Night
DESCRIPTION:Range Nights are BACK at OAK VALLEY GOLF CLUB! \n\n\n\nNow on THURSDAYS & FRIDAYS. \n\n\n\n Light up your night at Oak Valley!  \n\n\n\nBring the whole family out for Range Nights—fun swings\, fresh air\, and a great time for everyone. Sundown – 9:00pm
URL:https://www.oakvalleygolf.com/event/range-night-3/
LOCATION:Oak Valley Golf Club\, 1888 Golf Club Dr.\, Beaumont\, California\, 92223\, United States
END:VEVENT
BEGIN:VEVENT
DTSTART;TZID=UTC:20251218T170000
DTEND;TZID=UTC:20251218T210000
DTSTAMP:20260419T163143
CREATED:20251216T201255Z
LAST-MODIFIED:20251216T201255Z
UID:10000540-1766077200-1766091600@www.oakvalleygolf.com
SUMMARY:Range Night
DESCRIPTION:Range Nights are BACK at OAK VALLEY GOLF CLUB! \n\n\n\nNow on THURSDAYS & FRIDAYS. \n\n\n\n Light up your night at Oak Valley!  \n\n\n\nBring the whole family out for Range Nights—fun swings\, fresh air\, and a great time for everyone. Sundown – 9:00pm
URL:https://www.oakvalleygolf.com/event/range-night-2/
LOCATION:Oak Valley Golf Club\, 1888 Golf Club Dr.\, Beaumont\, California\, 92223\, United States
END:VEVENT
BEGIN:VEVENT
DTSTART;TZID=UTC:20251212T170000
DTEND;TZID=UTC:20251212T210000
DTSTAMP:20260419T163143
CREATED:20251216T202728Z
LAST-MODIFIED:20251216T202728Z
UID:10000539-1765558800-1765573200@www.oakvalleygolf.com
SUMMARY:Range Night
DESCRIPTION:Range Nights are BACK at OAK VALLEY GOLF CLUB! \n\n\n\nNow on THURSDAYS & FRIDAYS. \n\n\n\n Light up your night at Oak Valley!  \n\n\n\nBring the whole family out for Range Nights—fun swings\, fresh air\, and a great time for everyone. Sundown – 9:00pm
URL:https://www.oakvalleygolf.com/event/range-night-14/
LOCATION:Oak Valley Golf Club\, 1888 Golf Club Dr.\, Beaumont\, California\, 92223\, United States
END:VEVENT
BEGIN:VEVENT
DTSTART;TZID=UTC:20251211T170000
DTEND;TZID=UTC:20251211T210000
DTSTAMP:20260419T163143
CREATED:20251216T202725Z
LAST-MODIFIED:20251216T202725Z
UID:10000538-1765472400-1765486800@www.oakvalleygolf.com
SUMMARY:Range Night
DESCRIPTION:Range Nights are BACK at OAK VALLEY GOLF CLUB! \n\n\n\nNow on THURSDAYS & FRIDAYS. \n\n\n\n Light up your night at Oak Valley!  \n\n\n\nBring the whole family out for Range Nights—fun swings\, fresh air\, and a great time for everyone. Sundown – 9:00pm
URL:https://www.oakvalleygolf.com/event/range-night-13/
LOCATION:Oak Valley Golf Club\, 1888 Golf Club Dr.\, Beaumont\, California\, 92223\, United States
END:VEVENT
BEGIN:VEVENT
DTSTART;TZID=UTC:20251205T170000
DTEND;TZID=UTC:20251205T210000
DTSTAMP:20260419T163143
CREATED:20251216T202723Z
LAST-MODIFIED:20251216T202723Z
UID:10000537-1764954000-1764968400@www.oakvalleygolf.com
SUMMARY:Range Night
DESCRIPTION:Range Nights are BACK at OAK VALLEY GOLF CLUB! \n\n\n\nNow on THURSDAYS & FRIDAYS. \n\n\n\n Light up your night at Oak Valley!  \n\n\n\nBring the whole family out for Range Nights—fun swings\, fresh air\, and a great time for everyone. Sundown – 9:00pm
URL:https://www.oakvalleygolf.com/event/range-night-12/
LOCATION:Oak Valley Golf Club\, 1888 Golf Club Dr.\, Beaumont\, California\, 92223\, United States
END:VEVENT
BEGIN:VEVENT
DTSTART;TZID=UTC:20251204T170000
DTEND;TZID=UTC:20251204T210000
DTSTAMP:20260419T163143
CREATED:20251216T202720Z
LAST-MODIFIED:20251216T202720Z
UID:10000536-1764867600-1764882000@www.oakvalleygolf.com
SUMMARY:Range Night
DESCRIPTION:Range Nights are BACK at OAK VALLEY GOLF CLUB! \n\n\n\nNow on THURSDAYS & FRIDAYS. \n\n\n\n Light up your night at Oak Valley!  \n\n\n\nBring the whole family out for Range Nights—fun swings\, fresh air\, and a great time for everyone. Sundown – 9:00pm
URL:https://www.oakvalleygolf.com/event/range-night-11/
LOCATION:Oak Valley Golf Club\, 1888 Golf Club Dr.\, Beaumont\, California\, 92223\, United States
END:VEVENT
BEGIN:VEVENT
DTSTART;TZID=UTC:20251128T170000
DTEND;TZID=UTC:20251128T210000
DTSTAMP:20260419T163143
CREATED:20251216T202718Z
LAST-MODIFIED:20251216T202718Z
UID:10000535-1764349200-1764363600@www.oakvalleygolf.com
SUMMARY:Range Night
DESCRIPTION:Range Nights are BACK at OAK VALLEY GOLF CLUB! \n\n\n\nNow on THURSDAYS & FRIDAYS. \n\n\n\n Light up your night at Oak Valley!  \n\n\n\nBring the whole family out for Range Nights—fun swings\, fresh air\, and a great time for everyone. Sundown – 9:00pm
URL:https://www.oakvalleygolf.com/event/range-night-10/
LOCATION:Oak Valley Golf Club\, 1888 Golf Club Dr.\, Beaumont\, California\, 92223\, United States
END:VEVENT
BEGIN:VEVENT
DTSTART;TZID=UTC:20251121T170000
DTEND;TZID=UTC:20251121T210000
DTSTAMP:20260419T163143
CREATED:20251216T202715Z
LAST-MODIFIED:20251216T202715Z
UID:10000534-1763744400-1763758800@www.oakvalleygolf.com
SUMMARY:Range Night
DESCRIPTION:Range Nights are BACK at OAK VALLEY GOLF CLUB! \n\n\n\nNow on THURSDAYS & FRIDAYS. \n\n\n\n Light up your night at Oak Valley!  \n\n\n\nBring the whole family out for Range Nights—fun swings\, fresh air\, and a great time for everyone. Sundown – 9:00pm
URL:https://www.oakvalleygolf.com/event/range-night-9/
LOCATION:Oak Valley Golf Club\, 1888 Golf Club Dr.\, Beaumont\, California\, 92223\, United States
END:VEVENT
BEGIN:VEVENT
DTSTART;TZID=UTC:20251120T170000
DTEND;TZID=UTC:20251120T210000
DTSTAMP:20260419T163143
CREATED:20251216T202712Z
LAST-MODIFIED:20251216T202712Z
UID:10000533-1763658000-1763672400@www.oakvalleygolf.com
SUMMARY:Range Night
DESCRIPTION:Range Nights are BACK at OAK VALLEY GOLF CLUB! \n\n\n\nNow on THURSDAYS & FRIDAYS. \n\n\n\n Light up your night at Oak Valley!  \n\n\n\nBring the whole family out for Range Nights—fun swings\, fresh air\, and a great time for everyone. Sundown – 9:00pm
URL:https://www.oakvalleygolf.com/event/range-night-8/
LOCATION:Oak Valley Golf Club\, 1888 Golf Club Dr.\, Beaumont\, California\, 92223\, United States
END:VEVENT
BEGIN:VEVENT
DTSTART;TZID=UTC:20251114T170000
DTEND;TZID=UTC:20251114T210000
DTSTAMP:20260419T163143
CREATED:20251216T202706Z
LAST-MODIFIED:20251216T202706Z
UID:10000532-1763139600-1763154000@www.oakvalleygolf.com
SUMMARY:Range Night
DESCRIPTION:Range Nights are BACK at OAK VALLEY GOLF CLUB! \n\n\n\nNow on THURSDAYS & FRIDAYS. \n\n\n\n Light up your night at Oak Valley!  \n\n\n\nBring the whole family out for Range Nights—fun swings\, fresh air\, and a great time for everyone. Sundown – 9:00pm
URL:https://www.oakvalleygolf.com/event/range-night-7/
LOCATION:Oak Valley Golf Club\, 1888 Golf Club Dr.\, Beaumont\, California\, 92223\, United States
END:VEVENT
BEGIN:VEVENT
DTSTART;TZID=UTC:20251113T170000
DTEND;TZID=UTC:20251113T210000
DTSTAMP:20260419T163143
CREATED:20251216T202704Z
LAST-MODIFIED:20251216T202704Z
UID:10000531-1763053200-1763067600@www.oakvalleygolf.com
SUMMARY:Range Night
DESCRIPTION:Range Nights are BACK at OAK VALLEY GOLF CLUB! \n\n\n\nNow on THURSDAYS & FRIDAYS. \n\n\n\n Light up your night at Oak Valley!  \n\n\n\nBring the whole family out for Range Nights—fun swings\, fresh air\, and a great time for everyone. Sundown – 9:00pm
URL:https://www.oakvalleygolf.com/event/range-night-6/
LOCATION:Oak Valley Golf Club\, 1888 Golf Club Dr.\, Beaumont\, California\, 92223\, United States
END:VEVENT
BEGIN:VEVENT
DTSTART;TZID=UTC:20251107T170000
DTEND;TZID=UTC:20251107T210000
DTSTAMP:20260419T163143
CREATED:20251216T202701Z
LAST-MODIFIED:20251216T202701Z
UID:10000530-1762534800-1762549200@www.oakvalleygolf.com
SUMMARY:Range Night
DESCRIPTION:Range Nights are BACK at OAK VALLEY GOLF CLUB! \n\n\n\nNow on THURSDAYS & FRIDAYS. \n\n\n\n Light up your night at Oak Valley!  \n\n\n\nBring the whole family out for Range Nights—fun swings\, fresh air\, and a great time for everyone. Sundown – 9:00pm
URL:https://www.oakvalleygolf.com/event/range-night-5/
LOCATION:Oak Valley Golf Club\, 1888 Golf Club Dr.\, Beaumont\, California\, 92223\, United States
END:VEVENT
BEGIN:VEVENT
DTSTART;TZID=UTC:20251106T170000
DTEND;TZID=UTC:20251106T210000
DTSTAMP:20260419T163143
CREATED:20251216T202655Z
LAST-MODIFIED:20251216T202655Z
UID:10000529-1762448400-1762462800@www.oakvalleygolf.com
SUMMARY:Range Night
DESCRIPTION:Range Nights are BACK at OAK VALLEY GOLF CLUB! \n\n\n\nNow on THURSDAYS & FRIDAYS. \n\n\n\n Light up your night at Oak Valley!  \n\n\n\nBring the whole family out for Range Nights—fun swings\, fresh air\, and a great time for everyone. Sundown – 9:00pm
URL:https://www.oakvalleygolf.com/event/range-night-4/
LOCATION:Oak Valley Golf Club\, 1888 Golf Club Dr.\, Beaumont\, California\, 92223\, United States
END:VEVENT
BEGIN:VEVENT
DTSTART;TZID=UTC:20251017T170000
DTEND;TZID=UTC:20251017T210000
DTSTAMP:20260419T163143
CREATED:20251008T182852Z
LAST-MODIFIED:20251015T212848Z
UID:10000001-1760720400-1760734800@www.oakvalleygolf.com
SUMMARY:FRIDAY NIGHT LIGHTS
DESCRIPTION:Come and enjoy golf under the stars! A lit range until 9pm with different challenges and activities for the whole family!!
URL:https://www.oakvalleygolf.com/event/friday-night-lights/
LOCATION:Oak Valley Golf Club\, 1888 Golf Club Dr.\, Beaumont\, California\, 92223\, United States
END:VEVENT
END:VCALENDAR